BEGIN:VCALENDAR
VERSION:2.0
PRODID:-//AccessDx Laboratory - ECPv6.15.20//NONSGML v1.0//EN
CALSCALE:GREGORIAN
METHOD:PUBLISH
X-WR-CALNAME:AccessDx Laboratory
X-ORIGINAL-URL:https://www.accessdxlab.com
X-WR-CALDESC:Events for AccessDx Laboratory
REFRESH-INTERVAL;VALUE=DURATION:PT1H
X-Robots-Tag:noindex
X-PUBLISHED-TTL:PT1H
BEGIN:VTIMEZONE
TZID:UTC
BEGIN:STANDARD
TZOFFSETFROM:+0000
TZOFFSETTO:+0000
TZNAME:UTC
DTSTART:20210101T000000
END:STANDARD
END:VTIMEZONE
BEGIN:VEVENT
DTSTART;VALUE=DATE:20220523
DTEND;VALUE=DATE:20220526
DTSTAMP:20260421T070326
CREATED:20220415T160004Z
LAST-MODIFIED:20241001T224333Z
UID:895-1653264000-1653523199@www.accessdxlab.com
SUMMARY:BenefitsPRO Broker Expo
DESCRIPTION:
URL:https://www.accessdxlab.com/event/benefitspro-broker-expo/
LOCATION:Hilton Austin\, 500 E 4th St\, Austin\, TX\, 78701\, United States
CATEGORIES:Conference
ATTACH;FMTTYPE=image/png:https://www.accessdxlab.com/wp-content/uploads/2024/10/BenefitsPRO-Brokers-Expo-Social-Card-01.png
END:VEVENT
BEGIN:VEVENT
DTSTART;VALUE=DATE:20220522
DTEND;VALUE=DATE:20220526
DTSTAMP:20260421T070326
CREATED:20220418T160008Z
LAST-MODIFIED:20241001T224730Z
UID:899-1653177600-1653523199@www.accessdxlab.com
SUMMARY:LTC 100 Leadership Conference
DESCRIPTION:
URL:https://www.accessdxlab.com/event/ltc-100-leadership-conference/
LOCATION:The Ritz-Carlton Amelia Island\, 4750 Amelia Island Parkway\, Fernandina Beach\, FL\, 32034\, United States
CATEGORIES:Conference
ATTACH;FMTTYPE=image/png:https://www.accessdxlab.com/wp-content/uploads/2024/10/LTC-100-Social-Card-01.png
END:VEVENT
BEGIN:VEVENT
DTSTART;VALUE=DATE:20220516
DTEND;VALUE=DATE:20220519
DTSTAMP:20260421T070326
CREATED:20220404T160049Z
LAST-MODIFIED:20241001T223723Z
UID:891-1652659200-1652918399@www.accessdxlab.com
SUMMARY:Argentum Senior Living Executive Conference
DESCRIPTION:
URL:https://www.accessdxlab.com/event/argentum-senior-living-executive-conference/
LOCATION:Minneapolis Convention Center\, 1301 Second Ave S\, Minneapolis\, MN\, 55403\, United States
CATEGORIES:Conference
ATTACH;FMTTYPE=image/png:https://www.accessdxlab.com/wp-content/uploads/2024/10/Argentum-SLEC-Social-Card.png
END:VEVENT
BEGIN:VEVENT
DTSTART;VALUE=DATE:20220502
DTEND;VALUE=DATE:20220505
DTSTAMP:20260421T070326
CREATED:20220401T160003Z
LAST-MODIFIED:20241001T220836Z
UID:887-1651449600-1651708799@www.accessdxlab.com
SUMMARY:Care Providers Oklahoma Convention
DESCRIPTION:
URL:https://www.accessdxlab.com/event/care-providers-oklahoma-convention/
LOCATION:Embassy Suites Norman Hotel & Conference Center\, 2501 Conference Drive\, Norman\, OK\, 73069\, United States
CATEGORIES:Conference
ATTACH;FMTTYPE=image/png:https://www.accessdxlab.com/wp-content/uploads/2024/10/Care-Providers-Oklahoma-Social-Card-02.png
END:VEVENT
BEGIN:VEVENT
DTSTART;VALUE=DATE:20220330
DTEND;VALUE=DATE:20220402
DTSTAMP:20260421T070326
CREATED:20220201T170041Z
LAST-MODIFIED:20241001T205003Z
UID:879-1648598400-1648857599@www.accessdxlab.com
SUMMARY:MHA Business Summit
DESCRIPTION:
URL:https://www.accessdxlab.com/event/mha-business-summit/
LOCATION:Bellagio Hotel and Casino\, 3600 S Las Vegas Blvd\, Las Vegas\, NV\, 89109\, United States
ATTACH;FMTTYPE=image/png:https://www.accessdxlab.com/wp-content/uploads/2024/10/MHA-Social-Card-new-design-w.-MedTek21-logo.png
END:VEVENT
END:VCALENDAR