BEGIN:VCALENDAR
VERSION:2.0
PRODID:-//AccessDx Laboratory - ECPv6.15.20//NONSGML v1.0//EN
CALSCALE:GREGORIAN
METHOD:PUBLISH
X-ORIGINAL-URL:https://www.accessdxlab.com
X-WR-CALDESC:Events for AccessDx Laboratory
REFRESH-INTERVAL;VALUE=DURATION:PT1H
X-Robots-Tag:noindex
X-PUBLISHED-TTL:PT1H
BEGIN:VTIMEZONE
TZID:UTC
BEGIN:STANDARD
TZOFFSETFROM:+0000
TZOFFSETTO:+0000
TZNAME:UTC
DTSTART:20210101T000000
END:STANDARD
END:VTIMEZONE
BEGIN:VEVENT
DTSTART;VALUE=DATE:20220502
DTEND;VALUE=DATE:20220505
DTSTAMP:20260421T091834
CREATED:20220401T160003Z
LAST-MODIFIED:20241001T220836Z
UID:887-1651449600-1651708799@www.accessdxlab.com
SUMMARY:Care Providers Oklahoma Convention
DESCRIPTION:
URL:https://www.accessdxlab.com/event/care-providers-oklahoma-convention/
LOCATION:Embassy Suites Norman Hotel & Conference Center\, 2501 Conference Drive\, Norman\, OK\, 73069\, United States
CATEGORIES:Conference
ATTACH;FMTTYPE=image/png:https://www.accessdxlab.com/wp-content/uploads/2024/10/Care-Providers-Oklahoma-Social-Card-02.png
END:VEVENT
END:VCALENDAR